Workbook

Sheet Aggregate
C2: 1 - Nonpartisan Primary Reform | D2: 2 - Strategic Plan Requirement | E2: 3 - Resdiency and Conflict of Interest Alignment | F2: 5 - Modernizing Council Processes and Procedures | G2: 6 - Resident Population Ward Apportionment | H2: 7 - Council Leadership Terms / Voting Procedure | I2: 8 - Special Meeting Notice Modernization | J2: 10 - Administrative Department Enumeration | K2: 11 - Planning Commission Attendance / Removal | L2: 12 - BZBA Repeal / Transfer of Authority | M2: 13 - Charter Review Frequency and Scope | N2: 14 - Non-Discrimination Protections
B3: Barnhardt | C3: =Barnhardt!C9 -> 27 | D3: =Barnhardt!D9 -> 27 | E3: =Barnhardt!E9 -> 25 | F3: =Barnhardt!F9 -> 22 | G3: =Barnhardt!G9 -> 18 | H3: =Barnhardt!H9 -> 16 | I3: =Barnhardt!I9 -> 19 | J3: =Barnhardt!J9 -> 27 | ... N3: =Barnhardt!N9 -> 26
B4: Belisle | C4: =Belisle!C9 -> 23 | D4: =Belisle!D9 -> 11 | E4: =Belisle!E9 -> 15 | F4: =Belisle!F9 -> 17 | G4: =Belisle!G9 -> 21 | H4: =Belisle!H9 -> 11 | I4: =Belisle!I9 -> 21 | J4: =Belisle!J9 -> 22 | ... N4: =Belisle!N9 -> 24
B5: Hill | C5: =Hill!C9 -> 27 | D5: =Hill!D9 -> 19 | E5: =Hill!E9 -> 19 | F5: =Hill!F9 -> 24 | G5: =Hill!G9 -> 18 | H5: =Hill!H9 -> 20 | I5: =Hill!I9 -> 27 | J5: =Hill!J9 -> 28 | ... N5: =Hill!N9 -> 28
B6: Maxwell | C6: =Maxwell!C9 -> 30 | D6: =Maxwell!D9 -> 19 | E6: =Maxwell!E9 -> 13 | F6: =Maxwell!F9 -> 6 | G6: =Maxwell!G9 -> 12 | H6: =Maxwell!H9 -> 10 | I6: =Maxwell!I9 -> 6 | J6: =Maxwell!J9 -> 17 | ... N6: =Maxwell!N9 -> 16
B7: Mularski | C7: =Mularski!C9 -> 30 | D7: =Mularski!D9 -> 18 | E7: =Mularski!E9 -> 0 | F7: =Mularski!F9 -> 0 | G7: =Mularski!G9 -> 20 | H7: =Mularski!H9 -> 10 | I7: =Mularski!I9 -> 11 | J7: =Mularski!J9 -> 25 | ... N7: =Mularski!N9 -> 20
B8: Reynolds | C8: =Reynolds!C9 -> 22 | D8: =Reynolds!D9 -> 13 | E8: =Reynolds!E9 -> 15 | F8: =Reynolds!F9 -> 18 | G8: =Reynolds!G9 -> 17 | H8: =Reynolds!H9 -> 7 | I8: =Reynolds!I9 -> 24 | J8: =Reynolds!J9 -> 18 | ... N8: =Reynolds!N9 -> 23
B9: Wester | C9: =Wester!C9 -> 22 | D9: =Wester!D9 -> 22 | E9: =Wester!E9 -> 23 | F9: =Wester!F9 -> 14 | G9: =Wester!G9 -> 6 | H9: =Wester!H9 -> 6 | I9: =Wester!I9 -> 14 | J9: =Wester!J9 -> 13 | ... N9: =Wester!N9 -> 15
B10: TOTALS | C10: =SUM(C3:C9) -> 181 | D10: =SUM(D3:D9) -> 129 | E10: =SUM(E3:E9) -> 110 | F10: =SUM(F3:F9) -> 101 | G10: =SUM(G3:G9) -> 112 | H10: =SUM(H3:H9) -> 80 | I10: =SUM(I3:I9) -> 122 | J10: =SUM(J3:J9) -> 150 | ... N10: =SUM(N3:N9) -> 152

Sheet Charts
C2: Rank | D2: Ballot Measure - Name | E2: Score
C3: 12 | D3: 7 - Council Leadership Terms / Voting Procedure | E3: =Aggregate!H10 -> 80
C4: 11 | D4: 5 - Modernizing Council Processes and Procedures | E4: =Aggregate!F10 -> 101
C5: 10 | D5: 11 - Planning Commission Attendance / Removal | E5: =Aggregate!K10 -> 106
C6: 9 | D6: 3 - Resdiency and Conflict of Interest Alignment | E6: =Aggregate!E10 -> 110
C7: 8 | D7: 6 - Resident Population Ward Apportionment | E7: =Aggregate!G10 -> 112
C8: 7 | D8: 8 - Special Meeting Notice Modernization | E8: =Aggregate!I10 -> 122
C9: 6 | D9: 2 - Strategic Plan Requirement | E9: =Aggregate!D10 -> 129
C10: 5 | D10: 10 - Administrative Department Enumeration | E10: =Aggregate!J10 -> 150
C11: T-3 | D11: 13 - Charter Review Frequency and Scope | E11: =Aggregate!M10 -> 152
C12: T-3 | D12: 14 - Non-Discrimination Protections | E12: =Aggregate!N10 -> 152
C13: 2 | D13: 12 - BZBA Repeal / Transfer of Authority | E13: =Aggregate!L10 -> 176
C14: 1 | D14: 1 - Nonpartisan Primary Reform | E14: =Aggregate!C10 -> 181

Sheet Barnhardt
C2: 1 - Nonpartisan Primary Reform | D2: 2 - Strategic Plan Requirement | E2: 3 - Resdiency and Conflict of Interest Alignment | F2: 5 - Modernizing Council Processes and Procedures | G2: 6 - Resident Population Ward Apportionment | H2: 7 - Council Leadership Terms / Voting Procedure | I2: 8 - Special Meeting Notice Modernization | J2: 10 - Administrative Department Enumeration | K2: 11 - Planning Commission Attendance / Removal | L2: 12 - BZBA Repeal / Transfer of Authority | M2: 13 - Charter Review Frequency and Scope | N2: 14 - Non-Discrimination Protections
B3: Governance Relevance | C3: 5 | D3: 5 | E3: 5 | F3: 4 | G3: 5 | H3: 4 | I3: 3 | J3: 5 | K3: 4 | L3: 5 | M3: 5 | N3: 5
B4: Public Impact | C4: 4 | D4: 5 | E4: 4 | F4: 4 | G4: 3 | H4: 2 | I4: 3 | J4: 3 | K4: 3 | L4: 3 | M4: 3 | N4: 5
B5: Governance Clarity & Effectiveness | C5: 5 | D5: 4 | E5: 5 | F5: 4 | G5: 3 | H5: 3 | I5: 4 | J5: 5 | K5: 5 | L5: 4 | M5: 5 | N5: 4
B6: Strategic Plan Alignment | C6: 3 | D6: 5 | E6: 3 | F6: 3 | G6: 2 | H6: 2 | I6: 2 | J6: 4 | K6: 3 | L6: 4 | M6: 2 | N6: 5
B7: Legal / Risk Alignment | C7: 5 | D7: 4 | E7: 4 | F7: 4 | G7: 3 | H7: 2 | I7: 3 | J7: 5 | K7: 5 | L7: 5 | M7: 5 | N7: 3
B8: Readniess for Ballot Consideration | C8: 5 | D8: 4 | E8: 4 | F8: 3 | G8: 2 | H8: 3 | I8: 4 | J8: 5 | K8: 4 | L8: 5 | M8: 3 | N8: 4
B9: TOTALS | C9: =SUM(C3:C8) -> 27 | D9: =SUM(D3:D8) -> 27 | E9: =SUM(E3:E8) -> 25 | F9: =SUM(F3:F8) -> 22 | G9: =SUM(G3:G8) -> 18 | H9: =SUM(H3:H8) -> 16 | I9: =SUM(I3:I8) -> 19 | J9: =SUM(J3:J8) -> 27 | ... N9: =SUM(N3:N8) -> 26

Sheet Belisle
C2: 1 - Nonpartisan Primary Reform | D2: 2 - Strategic Plan Requirement | E2: 3 - Resdiency and Conflict of Interest Alignment | F2: 5 - Modernizing Council Processes and Procedures | G2: 6 - Resident Population Ward Apportionment | H2: 7 - Council Leadership Terms / Voting Procedure | I2: 8 - Special Meeting Notice Modernization | J2: 10 - Administrative Department Enumeration | K2: 11 - Planning Commission Attendance / Removal | L2: 12 - BZBA Repeal / Transfer of Authority | M2: 13 - Charter Review Frequency and Scope | N2: 14 - Non-Discrimination Protections
B3: Governance Relevance | C3: 5 | D3: 1 | E3: 5 | F3: 3 | G3: 4 | H3: 1 | I3: 5 | J3: 5 | K3: 2 | L3: 5 | M3: 5 | N3: 3
B4: Public Impact | C4: 2 | D4: 2 | E4: 3 | F4: 3 | G4: 3 | H4: 1 | I4: 1 | J4: 2 | K4: 1 | L4: 3 | M4: 3 | N4: 5
B5: Governance Clarity & Effectiveness | C5: 5 | D5: 1 | E5: 2 | F5: 5 | G5: 3 | H5: 3 | I5: 5 | J5: 5 | K5: 5 | L5: 5 | M5: 5 | N5: 5
B6: Strategic Plan Alignment | C6: 3 | D6: 5 | E6: 3 | F6: 2 | G6: 5 | H6: 4 | I6: 5 | J6: 4 | K6: 2 | L6: 3 | M6: 1 | N6: 5
B7: Legal / Risk Alignment | C7: 3 | D7: 1 | E7: 1 | F7: 1 | G7: 1 | H7: 1 | I7: 1 | J7: 1 | K7: 1 | L7: 3 | M7: 1 | N7: 3
B8: Readniess for Ballot Consideration | C8: 5 | D8: 1 | E8: 1 | F8: 3 | G8: 5 | H8: 1 | I8: 4 | J8: 5 | K8: 2 | L8: 5 | M8: 4 | N8: 3
B9: TOTALS | C9: =SUM(C3:C8) -> 23 | D9: =SUM(D3:D8) -> 11 | E9: =SUM(E3:E8) -> 15 | F9: =SUM(F3:F8) -> 17 | G9: =SUM(G3:G8) -> 21 | H9: =SUM(H3:H8) -> 11 | I9: =SUM(I3:I8) -> 21 | J9: =SUM(J3:J8) -> 22 | ... N9: =SUM(N3:N8) -> 24

Sheet Hill
C2: 1 - Nonpartisan Primary Reform | D2: 2 - Strategic Plan Requirement | E2: 3 - Resdiency and Conflict of Interest Alignment | F2: 5 - Modernizing Council Processes and Procedures | G2: 6 - Resident Population Ward Apportionment | H2: 7 - Council Leadership Terms / Voting Procedure | I2: 8 - Special Meeting Notice Modernization | J2: 10 - Administrative Department Enumeration | K2: 11 - Planning Commission Attendance / Removal | L2: 12 - BZBA Repeal / Transfer of Authority | M2: 13 - Charter Review Frequency and Scope | N2: 14 - Non-Discrimination Protections
B3: Governance Relevance | C3: 5 | D3: 2 | E3: 4 | F3: 5 | G3: 4 | H3: 5 | I3: 5 | J3: 5 | K3: 5 | L3: 5 | M3: 5 | N3: 5
B4: Public Impact | C4: 5 | D4: 4 | E4: 3 | F4: 4 | G4: 5 | H4: 4 | I4: 5 | J4: 5 | K4: 5 | L4: 5 | M4: 4 | N4: 5
B5: Governance Clarity & Effectiveness | C5: 5 | D5: 3 | E5: 4 | F5: 5 | G5: 4 | H5: 4 | I5: 5 | J5: 5 | K5: 5 | L5: 5 | M5: 3 | N5: 5
B6: Strategic Plan Alignment | C6: 4 | D6: 5 | E6: 2 | F6: 3 | G6: 2 | H6: 3 | I6: 4 | J6: 5 | K6: 4 | L6: 4 | M6: 2 | N6: 5
B7: Legal / Risk Alignment | C7: 3 | D7: 2 | E7: 4 | F7: 3 | G7: 2 | H7: 2 | I7: 3 | J7: 3 | K7: 3 | L7: 4 | M7: 1 | N7: 3
B8: Readniess for Ballot Consideration | C8: 5 | D8: 3 | E8: 2 | F8: 4 | G8: 1 | H8: 2 | I8: 5 | J8: 5 | K8: 5 | L8: 5 | M8: 2 | N8: 5
B9: TOTALS | C9: =SUM(C3:C8) -> 27 | D9: =SUM(D3:D8) -> 19 | E9: =SUM(E3:E8) -> 19 | F9: =SUM(F3:F8) -> 24 | G9: =SUM(G3:G8) -> 18 | H9: =SUM(H3:H8) -> 20 | I9: =SUM(I3:I8) -> 27 | J9: =SUM(J3:J8) -> 28 | ... N9: =SUM(N3:N8) -> 28

Sheet Maxwell
C2: 1 - Nonpartisan Primary Reform | D2: 2 - Strategic Plan Requirement | E2: 3 - Resdiency and Conflict of Interest Alignment | F2: 5 - Modernizing Council Processes and Procedures | G2: 6 - Resident Population Ward Apportionment | H2: 7 - Council Leadership Terms / Voting Procedure | I2: 8 - Special Meeting Notice Modernization | J2: 10 - Administrative Department Enumeration | K2: 11 - Planning Commission Attendance / Removal | L2: 12 - BZBA Repeal / Transfer of Authority | M2: 13 - Charter Review Frequency and Scope | N2: 14 - Non-Discrimination Protections
B3: Governance Relevance | C3: 5 | D3: 4 | E3: 4 | F3: 1 | G3: 4 | H3: 3 | I3: 1 | J3: 4 | K3: 5 | L3: 5 | M3: 5 | N3: 1
B4: Public Impact | C4: 5 | D4: 5 | E4: 1 | F4: 1 | G4: 4 | H4: 1 | I4: 1 | J4: 1 | K4: 1 | L4: 5 | M4: 2 | N4: 3
B5: Governance Clarity & Effectiveness | C5: 5 | D5: 3 | E5: 5 | F5: 1 | G5: 1 | H5: 3 | I5: 1 | J5: 5 | K5: 4 | L5: 5 | M5: 5 | N5: 3
B6: Strategic Plan Alignment | C6: 5 | D6: 5 | E6: 1 | F6: 1 | G6: 1 | H6: 1 | I6: 1 | J6: 2 | K6: 2 | L6: 3 | M6: 5 | N6: 3
B7: Legal / Risk Alignment | C7: 5 | D7: 1 | E7: 1 | F7: 1 | G7: 1 | H7: 1 | I7: 1 | J7: 2 | K7: 3 | L7: 3 | M7: 5 | N7: 3
B8: Readniess for Ballot Consideration | C8: 5 | D8: 1 | E8: 1 | F8: 1 | G8: 1 | H8: 1 | I8: 1 | J8: 3 | K8: 1 | L8: 5 | M8: 5 | N8: 3
B9: TOTALS | C9: =SUM(C3:C8) -> 30 | D9: =SUM(D3:D8) -> 19 | E9: =SUM(E3:E8) -> 13 | F9: =SUM(F3:F8) -> 6 | G9: =SUM(G3:G8) -> 12 | H9: =SUM(H3:H8) -> 10 | I9: =SUM(I3:I8) -> 6 | J9: =SUM(J3:J8) -> 17 | ... N9: =SUM(N3:N8) -> 16

Sheet Mularski
C2: 1 - Nonpartisan Primary Reform | D2: 2 - Strategic Plan Requirement | E2: 3 - Resdiency and Conflict of Interest Alignment | F2: 5 - Modernizing Council Processes and Procedures | G2: 6 - Resident Population Ward Apportionment | H2: 7 - Council Leadership Terms / Voting Procedure | I2: 8 - Special Meeting Notice Modernization | J2: 10 - Administrative Department Enumeration | K2: 11 - Planning Commission Attendance / Removal | L2: 12 - BZBA Repeal / Transfer of Authority | M2: 13 - Charter Review Frequency and Scope | N2: 14 - Non-Discrimination Protections
B3: Governance Relevance | C3: 5 | D3: 5 | G3: 5 | H3: 2 | I3: 3 | J3: 5 | L3: 5 | M3: 5 | N3: 5
B4: Public Impact | C4: 5 | D4: 1 | G4: 5 | H4: 0 | I4: 0 | J4: 3 | L4: 5 | M4: 5 | N4: 5
B5: Governance Clarity & Effectiveness | C5: 5 | D5: 1 | G5: 5 | H5: 3 | I5: 5 | J5: 5 | L5: 5 | M5: 5 | N5: 5
B6: Strategic Plan Alignment | C6: 5 | D6: 5 | G6: 0 | H6: 0 | I6: 0 | J6: 5 | L6: 5 | M6: 5 | N6: 0
B7: Legal / Risk Alignment | C7: 5 | D7: 1 | G7: 0 | H7: 0 | I7: 0 | J7: 2 | L7: 5 | M7: 0 | N7: 5
B8: Readniess for Ballot Consideration | C8: 5 | D8: 5 | G8: 5 | H8: 5 | I8: 3 | J8: 5 | L8: 5 | M8: 5 | N8: 0
B9: TOTALS | C9: =SUM(C3:C8) -> 30 | D9: =SUM(D3:D8) -> 18 | E9: =SUM(E3:E8) -> 0 | F9: =SUM(F3:F8) -> 0 | G9: =SUM(G3:G8) -> 20 | H9: =SUM(H3:H8) -> 10 | I9: =SUM(I3:I8) -> 11 | J9: =SUM(J3:J8) -> 25 | ... N9: =SUM(N3:N8) -> 20

Sheet Reynolds
C2: 1 - Nonpartisan Primary Reform | D2: 2 - Strategic Plan Requirement | E2: 3 - Resdiency and Conflict of Interest Alignment | F2: 5 - Modernizing Council Processes and Procedures | G2: 6 - Resident Population Ward Apportionment | H2: 7 - Council Leadership Terms / Voting Procedure | I2: 8 - Special Meeting Notice Modernization | J2: 10 - Administrative Department Enumeration | K2: 11 - Planning Commission Attendance / Removal | L2: 12 - BZBA Repeal / Transfer of Authority | M2: 13 - Charter Review Frequency and Scope | N2: 14 - Non-Discrimination Protections
B3: Governance Relevance | C3: 5 | D3: 1 | E3: 5 | F3: 5 | G3: 5 | H3: 2 | I3: 5 | J3: 4 | K3: 5 | L3: 5 | M3: 5 | N3: 5
B4: Public Impact | C4: 5 | D4: 5 | E4: 5 | F4: 1 | G4: 5 | H4: 1 | I4: 5 | J4: 3 | K4: 4 | L4: 5 | M4: 5 | N4: 5
B5: Governance Clarity & Effectiveness | C5: 5 | D5: 1 | E5: 2 | F5: 5 | G5: 3 | H5: 1 | I5: 5 | J5: 5 | K5: 5 | L5: 5 | M5: 5 | N5: 5
B6: Strategic Plan Alignment | C6: 1 | D6: 4 | E6: 1 | F6: 1 | G6: 1 | H6: 1 | I6: 1 | J6: 1 | K6: 1 | L6: 1 | M6: 1 | N6: 1
B7: Legal / Risk Alignment | C7: 1 | D7: 1 | E7: 1 | F7: 3 | G7: 2 | H7: 1 | I7: 3 | J7: 1 | K7: 2 | L7: 2 | M7: 2 | N7: 2
B8: Readniess for Ballot Consideration | C8: 5 | D8: 1 | E8: 1 | F8: 3 | G8: 1 | H8: 1 | I8: 5 | J8: 4 | K8: 3 | L8: 4 | M8: 3 | N8: 5
B9: TOTALS | C9: =SUM(C3:C8) -> 22 | D9: =SUM(D3:D8) -> 13 | E9: =SUM(E3:E8) -> 15 | F9: =SUM(F3:F8) -> 18 | G9: =SUM(G3:G8) -> 17 | H9: =SUM(H3:H8) -> 7 | I9: =SUM(I3:I8) -> 24 | J9: =SUM(J3:J8) -> 18 | ... N9: =SUM(N3:N8) -> 23

Sheet Wester
C2: 1 - Nonpartisan Primary Reform | D2: 2 - Strategic Plan Requirement | E2: 3 - Resdiency and Conflict of Interest Alignment | F2: 5 - Modernizing Council Processes and Procedures | G2: 6 - Resident Population Ward Apportionment | H2: 7 - Council Leadership Terms / Voting Procedure | I2: 8 - Special Meeting Notice Modernization | J2: 10 - Administrative Department Enumeration | K2: 11 - Planning Commission Attendance / Removal | L2: 12 - BZBA Repeal / Transfer of Authority | M2: 13 - Charter Review Frequency and Scope | N2: 14 - Non-Discrimination Protections
B3: Governance Relevance | C3: 2 | D3: 4 | E3: 3 | F3: 3 | G3: 1 | H3: 1 | I3: 2 | J3: 2 | K3: 1 | L3: 3 | M3: 2 | N3: 3
B4: Public Impact | C4: 5 | D4: 4 | E4: 4 | F4: 3 | G4: 1 | H4: 1 | I4: 2 | J4: 1 | K4: 1 | L4: 4 | M4: 4 | N4: 3
B5: Governance Clarity & Effectiveness | C5: 5 | D5: 5 | E5: 3 | F5: 3 | G5: 1 | H5: 1 | I5: 2 | J5: 3 | K5: 1 | L5: 3 | M5: 3 | N5: 2
B6: Strategic Plan Alignment | C6: 1 | D6: 5 | E6: 3 | F6: 2 | G6: 1 | H6: 1 | I6: 1 | J6: 3 | K6: 1 | L6: 2 | M6: 3 | N6: 5
B7: Legal / Risk Alignment | C7: 4 | D7: 2 | E7: 5 | F7: 2 | G7: 1 | H7: 1 | I7: 5 | J7: 1 | K7: 1 | L7: 4 | M7: 3 | N7: 1
B8: Readniess for Ballot Consideration | C8: 5 | D8: 2 | E8: 5 | F8: 1 | G8: 1 | H8: 1 | I8: 2 | J8: 3 | K8: 1 | L8: 4 | M8: 5 | N8: 1
B9: TOTALS | C9: =SUM(C3:C8) -> 22 | D9: =SUM(D3:D8) -> 22 | E9: =SUM(E3:E8) -> 23 | F9: =SUM(F3:F8) -> 14 | G9: =SUM(G3:G8) -> 6 | H9: =SUM(H3:H8) -> 6 | I9: =SUM(I3:I8) -> 14 | J9: =SUM(J3:J8) -> 13 | ... N9: =SUM(N3:N8) -> 15
